BEGIN:VCALENDAR
VERSION:2.0
PRODID:-//The Table UMC - ECPv6.15.13//NONSGML v1.0//EN
CALSCALE:GREGORIAN
METHOD:PUBLISH
X-WR-CALNAME:The Table UMC
X-ORIGINAL-URL:https://thetableumc.org
X-WR-CALDESC:Events for The Table UMC
REFRESH-INTERVAL;VALUE=DURATION:PT1H
X-Robots-Tag:noindex
X-PUBLISHED-TTL:PT1H
BEGIN:VTIMEZONE
TZID:America/Los_Angeles
BEGIN:DAYLIGHT
TZOFFSETFROM:-0800
TZOFFSETTO:-0700
TZNAME:PDT
DTSTART:20170312T100000
END:DAYLIGHT
BEGIN:STANDARD
TZOFFSETFROM:-0700
TZOFFSETTO:-0800
TZNAME:PST
DTSTART:20171105T090000
END:STANDARD
BEGIN:DAYLIGHT
TZOFFSETFROM:-0800
TZOFFSETTO:-0700
TZNAME:PDT
DTSTART:20180311T100000
END:DAYLIGHT
BEGIN:STANDARD
TZOFFSETFROM:-0700
TZOFFSETTO:-0800
TZNAME:PST
DTSTART:20181104T090000
END:STANDARD
BEGIN:DAYLIGHT
TZOFFSETFROM:-0800
TZOFFSETTO:-0700
TZNAME:PDT
DTSTART:20190310T100000
END:DAYLIGHT
BEGIN:STANDARD
TZOFFSETFROM:-0700
TZOFFSETTO:-0800
TZNAME:PST
DTSTART:20191103T090000
END:STANDARD
END:VTIMEZONE
BEGIN:VEVENT
DTSTART;TZID=America/Los_Angeles:20180211T123000
DTEND;TZID=America/Los_Angeles:20180211T163000
DTSTAMP:20260423T102406
CREATED:20180102T215538Z
LAST-MODIFIED:20180102T215538Z
UID:7251-1518352200-1518366600@thetableumc.org
SUMMARY:choosing safety training
DESCRIPTION:With news reporting seemingly endless acts of violence\, we want to ensure our community of faith is as safe as possible.  To this end\, Cori Preheim & Rick Randolph will lead an afternoon workshop designed to train our church community to be ready to respond in the unlikely event of violence on our campus.\n\nRick & Cori are retired law enforcement officers and have led schools\, churches\, and community groups in similar training.  This training is appropriate for teenagers and adults. Lunch will be served.\n\n\nIf you are interested in attending this safety training\, please fill out and submit the form below.  Thank you!\n\n\n\n  \n\n\n\nYour Name (required)\n \n\n \nYour Email (required)\n \n\n \nAny dietary restrictions or needs?\n \n\n \nWill you need childcare?\n \n\n \n\n Δ
URL:https://thetableumc.org/event/choosing-safety-training/
LOCATION:The Table UMC – Sanctuary
CATEGORIES:Reaching
ATTACH;FMTTYPE=image/jpeg:https://thetableumc.org/wp-content/uploads/2018/01/IMG_4448.jpg
END:VEVENT
END:VCALENDAR